BEGIN:VCALENDAR
VERSION:2.0
PRODID:-//STADTKULTUR HAMBURG//kultur-hamburg.de///DE
CALSCALE:GREGORIAN
BEGIN:VEVENT
X-WR-TIMEZONE:Europe/Berlin
DTSTART:20190922T183000
DTEND:20190922T213000
LOCATION:Reh. Raum für Selbst Machen \, Rehhoffstraße 1-3 \, 20459 Hamburg
DTSTAMP:20260424T065323
SUMMARY:philosophisch – poetischer Abend im Ledigenheim
URL;VALUE=URI:https://www.kultur-hamburg.de/veranstaltungen/philosophisch--poetischer-abend-im-ledigenheim-456083
DESCRIPTION:
UID:9c9098295693f8b07a11ec8896b3a0c8@kulturhamburg
END:VEVENT
END:VCALENDAR