BEGIN:VCALENDAR
VERSION:2.0
PRODID:-//STADTKULTUR HAMBURG//kultur-hamburg.de///DE
CALSCALE:GREGORIAN
BEGIN:VEVENT
X-WR-TIMEZONE:Europe/Berlin
DTSTART:20190816T203000
DTEND:20190816T235900
LOCATION:Bambi galore \, Öjendorfer Weg 30 a \, 22119 Hamburg
DTSTAMP:20260419T182103
SUMMARY:Revolt! Incantation, Hate und Beheaded
URL;VALUE=URI:https://www.kultur-hamburg.de/veranstaltungen/revolt!-incantation-hate-und-beheaded-456622
DESCRIPTION:Konzert mit Incantation, Hate und Beheaded
UID:bf9a750f4e03eb32e8291839ab7ffc9b@kulturhamburg
END:VEVENT
END:VCALENDAR