BEGIN:VCALENDAR
VERSION:2.0
PRODID:-//STADTKULTUR HAMBURG//kultur-hamburg.de///DE
CALSCALE:GREGORIAN
BEGIN:VEVENT
X-WR-TIMEZONE:Europe/Berlin
DTSTART:20190819T190000
DTEND:20190819T210000
LOCATION:Kultur Palast Hamburg \, Öjendorfer Weg 30a \, 22119 Hamburg
DTSTAMP:20260419T230932
SUMMARY:Vorlesung für Alle
URL;VALUE=URI:https://www.kultur-hamburg.de/veranstaltungen/vorlesung-fuer-alle-456623
DESCRIPTION:Lust auf Wissen? - Verstehen wir uns? Mehrsprachigkeit in Hamburg
UID:90d1295fa92d7969d18971648d27fa32@kulturhamburg
END:VEVENT
END:VCALENDAR