BEGIN:VCALENDAR
VERSION:2.0
PRODID:-//STADTKULTUR HAMBURG//kultur-hamburg.de///DE
CALSCALE:GREGORIAN
BEGIN:VEVENT
X-WR-TIMEZONE:Europe/Berlin
DTSTART:20190822T203000
DTEND:20190822T235900
LOCATION:Bambi galore \, Öjendorfer Weg 30 a \, 22119 Hamburg
DTSTAMP:20260420T042637
SUMMARY:Revolt! Bullet und Against Evil
URL;VALUE=URI:https://www.kultur-hamburg.de/veranstaltungen/revolt!-bullet-und-against-evil-456681
DESCRIPTION:Konzert mit Bullet und Against Evil
UID:a264657547cc370acf64af259a75f628@kulturhamburg
END:VEVENT
END:VCALENDAR