BEGIN:VCALENDAR
VERSION:2.0
PRODID:-//STADTKULTUR HAMBURG//kultur-hamburg.de///DE
CALSCALE:GREGORIAN
BEGIN:VEVENT
X-WR-TIMEZONE:Europe/Berlin
DTSTART:20191221T160000
DTEND:20191221T170000
LOCATION:FUNDUS THEATER \, Sievekingdamm 3 - Platz der Kinderrechte \, 20535 Hamburg
DTSTAMP:20260422T072734
SUMMARY:Tri Tra Trullala - Kasperl Melchior Balthasar
URL;VALUE=URI:https://www.kultur-hamburg.de/veranstaltungen/tri-tra-trullala-kasperl-melchior-balthasar-456682
DESCRIPTION:kirchkern Compes & Co. für alle ab 6 Jahre
UID:8a16fc0aed30c6fb599c4e15f65856c7@kulturhamburg
END:VEVENT
END:VCALENDAR