BEGIN:VCALENDAR
VERSION:2.0
PRODID:-//STADTKULTUR HAMBURG//kultur-hamburg.de///DE
CALSCALE:GREGORIAN
BEGIN:VEVENT
X-WR-TIMEZONE:Europe/Berlin
DTSTART:20191222T160000
DTEND:20191222T170000
LOCATION:FUNDUS THEATER \, Sievekingdamm 3 - Platz der Kinderrechte \, 20535 Hamburg
DTSTAMP:20260422T055217
SUMMARY:Tri Tra Trullala - Kasperl Melchior Balthasar
URL;VALUE=URI:https://www.kultur-hamburg.de/veranstaltungen/tri-tra-trullala-kasperl-melchior-balthasar-456683
DESCRIPTION:kirchkern Compes & Co. für alle ab 6 Jahre
UID:a9fc329bced81b4b7566c2952a9e2cf9@kulturhamburg
END:VEVENT
END:VCALENDAR