BEGIN:VCALENDAR
VERSION:2.0
PRODID:-//STADTKULTUR HAMBURG//kultur-hamburg.de///DE
CALSCALE:GREGORIAN
BEGIN:VEVENT
X-WR-TIMEZONE:Europe/Berlin
DTSTART:20190831T203000
DTEND:20190901T040000
LOCATION:Bambi galore \, Öjendorfer Weg 30 a \, 22119 Hamburg
DTSTAMP:20260422T190807
SUMMARY:Revolt! Funeral Whore
URL;VALUE=URI:https://www.kultur-hamburg.de/veranstaltungen/revolt!-funeral-whore-456688
DESCRIPTION:Konzert mit Funeral Whore, Sarinvomit, Obskura und Voreus
UID:e8b9ef7a695aa6413aa52c05d84f3218@kulturhamburg
END:VEVENT
END:VCALENDAR