BEGIN:VCALENDAR
VERSION:2.0
PRODID:-//STADTKULTUR HAMBURG//kultur-hamburg.de///DE
CALSCALE:GREGORIAN
BEGIN:VEVENT
X-WR-TIMEZONE:Europe/Berlin
DTSTART:20190825T120000
DTEND:20190825T133000
LOCATION:Kultur Palast Hamburg \, Öjendorfer Weg 30a \, 22119 Hamburg
DTSTAMP:20260420T091157
SUMMARY:Ultimo
URL;VALUE=URI:https://www.kultur-hamburg.de/veranstaltungen/ultimo-456701
DESCRIPTION:Kabarettistischer Monatsrückblick von und mit Helga Siebert
UID:8fb7a48b306a66b1dad21d27ff2ddc8f@kulturhamburg
END:VEVENT
END:VCALENDAR