BEGIN:VCALENDAR
VERSION:2.0
PRODID:-//STADTKULTUR HAMBURG//kultur-hamburg.de///DE
CALSCALE:GREGORIAN
BEGIN:VEVENT
X-WR-TIMEZONE:Europe/Berlin
DTSTART:20190905T150000
DTEND:20190905T170000
LOCATION:Kultur Palast Hamburg \, Öjendorfer Weg 30a \, 22119 Hamburg
DTSTAMP:20260423T032252
SUMMARY:Librileo Vorlesestunde
URL;VALUE=URI:https://www.kultur-hamburg.de/veranstaltungen/librileo-vorlesestunde-456702
DESCRIPTION:Lesen, Spiel & Spaß in den Vorlesestunden von Librileo
UID:09bf244e26d6f366cb9afcf6ec99e0fc@kulturhamburg
END:VEVENT
END:VCALENDAR