BEGIN:VCALENDAR
VERSION:2.0
PRODID:-//STADTKULTUR HAMBURG//kultur-hamburg.de///DE
CALSCALE:GREGORIAN
BEGIN:VEVENT
X-WR-TIMEZONE:Europe/Berlin
DTSTART:20190905T200000
DTEND:20190905T235900
LOCATION:Bambi galore \, Öjendorfer Weg 30 a \, 22119 Hamburg
DTSTAMP:20260423T032252
SUMMARY:Revolt! Bastard Grave, God Disease und Repulsive Feast
URL;VALUE=URI:https://www.kultur-hamburg.de/veranstaltungen/revolt!-bastard-grave-god-disease-und-repulsive-feast-456705
DESCRIPTION:Konzert mit Bastard Grave, God Disease und Repulsive Feast
UID:d9b6553b279dc584dbdcef76f2203855@kulturhamburg
END:VEVENT
END:VCALENDAR