BEGIN:VCALENDAR
VERSION:2.0
PRODID:-//STADTKULTUR HAMBURG//kultur-hamburg.de///DE
CALSCALE:GREGORIAN
BEGIN:VEVENT
X-WR-TIMEZONE:Europe/Berlin
DTSTART:20190908T110000
DTEND:20190908T140000
LOCATION:Kultur Palast Hamburg \, Öjendorfer Weg 30a \, 22119 Hamburg
DTSTAMP:20260423T085812
SUMMARY:Baby-Klassikkonzert
URL;VALUE=URI:https://www.kultur-hamburg.de/veranstaltungen/baby-klassikkonzert-456707
DESCRIPTION:Klassik auf der Krabbeldecke in Kooperation mit Babykonzert Hamburg
UID:995dff4895d815d9901e7763b63b85de@kulturhamburg
END:VEVENT
END:VCALENDAR