BEGIN:VCALENDAR
VERSION:2.0
PRODID:-//STADTKULTUR HAMBURG//kultur-hamburg.de///DE
CALSCALE:GREGORIAN
BEGIN:VEVENT
X-WR-TIMEZONE:Europe/Berlin
DTSTART:20190816T190000
DTEND:20190816T210000
LOCATION:Alles wird schön \, Friedrich-Naumann-Str. 27 \, 21075 Hamburg
DTSTAMP:20260419T182058
SUMMARY:Stroh zu Gold Zeichnungen von Irmgard Gottschlich
URL;VALUE=URI:https://www.kultur-hamburg.de/veranstaltungen/stroh-zu-gold-zeichnungen-von-irmgard-gottschlich-456729
DESCRIPTION:Stroh zu Gold
Zeichnungen von Irmgard Gottschlich

Ausstellungseröffnung: 16.August 2019, 19 Uhr

Au...
UID:44e13b7ce35cb9285853e897c81544e2@kulturhamburg
END:VEVENT
END:VCALENDAR