BEGIN:VCALENDAR
VERSION:2.0
PRODID:-//STADTKULTUR HAMBURG//kultur-hamburg.de///DE
CALSCALE:GREGORIAN
BEGIN:VEVENT
X-WR-TIMEZONE:Europe/Berlin
DTSTART:20190917T100000
DTEND:20190917T110000
LOCATION:FUNDUS THEATER \, Sievekingdamm 3 - Platz der Kinderrechte \, 20535 Hamburg
DTSTAMP:20260423T230240
SUMMARY:Vorsicht! Kasper!
URL;VALUE=URI:https://www.kultur-hamburg.de/veranstaltungen/vorsicht!-kasper!-456784
DESCRIPTION:FUNDUS THEATER für Kinder ab 4 Jahre
UID:41552d1adc69c31ce0498877a73cdc82@kulturhamburg
END:VEVENT
END:VCALENDAR