BEGIN:VCALENDAR
VERSION:2.0
PRODID:-//STADTKULTUR HAMBURG//kultur-hamburg.de///DE
CALSCALE:GREGORIAN
BEGIN:VEVENT
X-WR-TIMEZONE:Europe/Berlin
DTSTART:20190911T100000
DTEND:20190911T113000
LOCATION:Kultur Palast Hamburg \, Öjendorfer Weg 30a \, 22119 Hamburg
DTSTAMP:20260423T133715
SUMMARY:Die unglaubliche Geschichte der Riesenbirne
URL;VALUE=URI:https://www.kultur-hamburg.de/veranstaltungen/die-unglaubliche-geschichte-der-riesenbirne-456790
DESCRIPTION:Kinderkino ab 4 Jahren
UID:d7d1dce00f3bfb35479af5fcba6ee7bf@kulturhamburg
END:VEVENT
END:VCALENDAR