BEGIN:VCALENDAR
VERSION:2.0
PRODID:-//STADTKULTUR HAMBURG//kultur-hamburg.de///DE
CALSCALE:GREGORIAN
BEGIN:VEVENT
X-WR-TIMEZONE:Europe/Berlin
DTSTART:20190912T203000
DTEND:20190912T235900
LOCATION:Bambi galore \, Öjendorfer Weg 30 a \, 22119 Hamburg
DTSTAMP:20260423T152118
SUMMARY:Revolt! Co Headline Tour!
URL;VALUE=URI:https://www.kultur-hamburg.de/veranstaltungen/revolt!-co-headline-tour!-456791
DESCRIPTION:Konzert mit Sanhedrin und Spirit Adrift
UID:6d48835547937a26e69b6f7c54cf10eb@kulturhamburg
END:VEVENT
END:VCALENDAR