BEGIN:VCALENDAR
VERSION:2.0
PRODID:-//STADTKULTUR HAMBURG//kultur-hamburg.de///DE
CALSCALE:GREGORIAN
BEGIN:VEVENT
X-WR-TIMEZONE:Europe/Berlin
DTSTART:20190914T190000
DTEND:20190915T040000
LOCATION:Bambi galore \, Öjendorfer Weg 30 a \, 22119 Hamburg
DTSTAMP:20260423T182931
SUMMARY:Revolt! & Cerritus
URL;VALUE=URI:https://www.kultur-hamburg.de/veranstaltungen/revolt!-&-cerritus-456793
DESCRIPTION:Lagerstein Album Release Tour + Guests
UID:b5c8249d86c4214486526ad30b4e6b0b@kulturhamburg
END:VEVENT
END:VCALENDAR