BEGIN:VCALENDAR
VERSION:2.0
PRODID:-//STADTKULTUR HAMBURG//kultur-hamburg.de///DE
CALSCALE:GREGORIAN
BEGIN:VEVENT
X-WR-TIMEZONE:Europe/Berlin
DTSTART:20190915T183000
DTEND:20190916T020000
LOCATION:Bambi galore \, Öjendorfer Weg 30 a \, 22119 Hamburg
DTSTAMP:20260423T202232
SUMMARY:Revolt! Godless und Divide
URL;VALUE=URI:https://www.kultur-hamburg.de/veranstaltungen/revolt!-godless-und-divide-456794
DESCRIPTION:Konzert mit Godless und Divide + Support
UID:9135411f209a35ea7cce1d67c306ea37@kulturhamburg
END:VEVENT
END:VCALENDAR