BEGIN:VCALENDAR
VERSION:2.0
PRODID:-//STADTKULTUR HAMBURG//kultur-hamburg.de///DE
CALSCALE:GREGORIAN
BEGIN:VEVENT
X-WR-TIMEZONE:Europe/Berlin
DTSTART:20190918T100000
DTEND:20190918T110000
LOCATION:Kultur Palast Hamburg \, Öjendorfer Weg 30a \, 22119 Hamburg
DTSTAMP:20260424T004323
SUMMARY:Elbwichtelkonzert - Geburtstagsfest der Elbwichtel mit Horn
URL;VALUE=URI:https://www.kultur-hamburg.de/veranstaltungen/elbwichtelkonzert-geburtstagsfest-der-elbwichtel-mit-horn-456795
DESCRIPTION:Klassik für Kinder ab 3 Jahren
UID:a9e609220c3b7667e3524469bb9a7010@kulturhamburg
END:VEVENT
END:VCALENDAR