BEGIN:VCALENDAR
VERSION:2.0
PRODID:-//STADTKULTUR HAMBURG//kultur-hamburg.de///DE
CALSCALE:GREGORIAN
BEGIN:VEVENT
X-WR-TIMEZONE:Europe/Berlin
DTSTART:20190921T203000
DTEND:20190922T040000
LOCATION:Bambi galore \, Öjendorfer Weg 30 a \, 22119 Hamburg
DTSTAMP:20260424T052045
SUMMARY:Billstedt Metal Day III
URL;VALUE=URI:https://www.kultur-hamburg.de/veranstaltungen/billstedt-metal-day-iii-456796
DESCRIPTION:Konzert mit Iron Angel, Stälker und Rayder
UID:f4bdf43b47be553db3807fd860e3a8f0@kulturhamburg
END:VEVENT
END:VCALENDAR