BEGIN:VCALENDAR
VERSION:2.0
PRODID:-//STADTKULTUR HAMBURG//kultur-hamburg.de///DE
CALSCALE:GREGORIAN
BEGIN:VEVENT
X-WR-TIMEZONE:Europe/Berlin
DTSTART:20190923T100000
DTEND:20190923T110000
LOCATION:Kultur Palast Hamburg \, Öjendorfer Weg 30a \, 22119 Hamburg
DTSTAMP:20260424T083431
SUMMARY:Simon und Nuna - Spaghetti, Sturm und Fahrradhelm
URL;VALUE=URI:https://www.kultur-hamburg.de/veranstaltungen/simon-und-nuna-spaghetti-sturm-und-fahrradhelm-456797
DESCRIPTION:Mapili Kindertheater ab 4 Jahren
UID:7b176a4b6e4b9da5e3504cb21878f8c6@kulturhamburg
END:VEVENT
END:VCALENDAR