BEGIN:VCALENDAR
VERSION:2.0
PRODID:-//STADTKULTUR HAMBURG//kultur-hamburg.de///DE
CALSCALE:GREGORIAN
BEGIN:VEVENT
X-WR-TIMEZONE:Europe/Berlin
DTSTART:20190912T193000
DTEND:20190912T210000
LOCATION:PEM Theater an den Elbbrücken \, Reginenstraße 18 \, 20539 Hamburg
DTSTAMP:20260423T152107
SUMMARY:Vater Morgana - Komödie mit Livemusik
URL;VALUE=URI:https://www.kultur-hamburg.de/veranstaltungen/vater-morgana-komoedie-mit-livemusik-458435
DESCRIPTION:Ein konservativer Familienvater, eine keimfreie Pharmazeutin und eine zwanghaft glückliche Hartz 4 – Empfängerin. Unterschiedlicher könnten Henriette, Stacy und Dusan nicht sein. Am Vatertag lernen sie sich unverhofft kennen und das Schicksal knüpft ein unzertrennliches Band zwischen den Dreien. Live begleitet von der PEM Theaterband mit unvergesslichen Songs der 70er Jahre.
UID:193c794570b24defccb6025392403b08@kulturhamburg
END:VEVENT
END:VCALENDAR