BEGIN:VCALENDAR
VERSION:2.0
PRODID:-//STADTKULTUR HAMBURG//kultur-hamburg.de///DE
CALSCALE:GREGORIAN
BEGIN:VEVENT
X-WR-TIMEZONE:Europe/Berlin
DTSTART:20190904T110000
DTEND:20190904T130000
LOCATION:Kulturschloss Wandsbek \, Königsreihe 4 \, 22041 Hamburg
DTSTAMP:20260423T014412
SUMMARY:Jahresausstellung der Kreativ-Werkstatt Wandsbek: STADT AN SICH TEN: KOMtrastreiches – KOMträres – KOMstruktives
URL;VALUE=URI:https://www.kultur-hamburg.de/veranstaltungen/jahresausstellung-der-kreativ-werkstatt-wandsbek-stadt-an-sich-ten-komtrastreiches--komtraeres--komstruktives-458890
DESCRIPTION:Termin Vernissage 04.09. // 11:00-13:00 Uhr // Eintritt frei
Ausstellung: 05.09. – 29.10.2019 // Mo-Fr: 10:00-18:00 Uhr
Stadt – an – sich – ten
UID:78318a74d31f196716631a4a6726942e@kulturhamburg
END:VEVENT
END:VCALENDAR