BEGIN:VCALENDAR
VERSION:2.0
PRODID:-//STADTKULTUR HAMBURG//kultur-hamburg.de///DE
CALSCALE:GREGORIAN
BEGIN:VEVENT
X-WR-TIMEZONE:Europe/Berlin
DTSTART:20190913T190000
DTEND:20190913T210000
LOCATION:Kulturschloss Wandsbek \, Königsreihe 4 \, 22041 Hamburg
DTSTAMP:20260423T170133
SUMMARY:Stammtisch der Kulturen – mit Maghreb Haus e.V.
URL;VALUE=URI:https://www.kultur-hamburg.de/veranstaltungen/stammtisch-der-kulturen--mit-maghreb-haus-e.v.-458891
DESCRIPTION:Einmal an jedem 2. Freitag in jedem 2. Monat lädt das Maghreb Haus e.V. zum „Stammtisch der Kulturen“ unter dem Motto „Fremde werden Freunde – Eine Initiative für Toleranz und friedliches Zusammenleben“ ins Kulturschloss Wandsbek ein.
UID:e366661af9ec27216b53b172bb536583@kulturhamburg
END:VEVENT
END:VCALENDAR