BEGIN:VCALENDAR
VERSION:2.0
PRODID:-//STADTKULTUR HAMBURG//kultur-hamburg.de///DE
CALSCALE:GREGORIAN
BEGIN:VEVENT
X-WR-TIMEZONE:Europe/Berlin
DTSTART:20190908T190000
DTEND:20190908T210000
LOCATION:Kulturschloss Wandsbek \, Königsreihe 4 \, 22041 Hamburg
DTSTAMP:20260423T085812
SUMMARY:„SONGS & WHISPERS“ presents @ Kulturschloss: Ronja Maltzahn (D)
URL;VALUE=URI:https://www.kultur-hamburg.de/veranstaltungen/songs-&-whispers-presents--kulturschloss-ronja-maltzahn-d-459005
DESCRIPTION:Ein Pop-Sound der durchs Ohr unter die Haut geht mitten rein in unser Innerstes. Da wo man nur mit Musik hingelangt, nicht mit Worten.
UID:db328eb938083c9054037d8090c9b4b5@kulturhamburg
END:VEVENT
END:VCALENDAR