BEGIN:VCALENDAR
VERSION:2.0
PRODID:-//STADTKULTUR HAMBURG//kultur-hamburg.de///DE
CALSCALE:GREGORIAN
BEGIN:VEVENT
X-WR-TIMEZONE:Europe/Berlin
DTSTART:20190823T220000
DTEND:20190824T000000
LOCATION:The Old Dubliner - Irish Pub \, Neue Straße 56-58 \,  Hamburg
DTSTAMP:20260420T054946
SUMMARY:MacPiet
URL;VALUE=URI:https://www.kultur-hamburg.de/veranstaltungen/macpiet-459122
DESCRIPTION:Irish & Scottish Folk | Rock-Pop

?MacPiet?  - Dieser Name steht nicht nur für den rotbärtigen Rhein...
UID:116a1598884f643b22d1ab0e6e69ad12@kulturhamburg
END:VEVENT
END:VCALENDAR