BEGIN:VCALENDAR
VERSION:2.0
PRODID:-//STADTKULTUR HAMBURG//kultur-hamburg.de///DE
CALSCALE:GREGORIAN
BEGIN:VEVENT
X-WR-TIMEZONE:Europe/Berlin
DTSTART:20190828T200000
DTEND:20190828T220000
LOCATION:The Old Dubliner - Irish Pub \, Neue Straße 56-58 \,  Hamburg
DTSTAMP:20260422T141311
SUMMARY:Open Stage
URL;VALUE=URI:https://www.kultur-hamburg.de/veranstaltungen/open-stage-459124
DESCRIPTION:Singer  & Songwriter, Rock & Pop, Irish Folk und mehr sind bei uns an  2ten und 4ten Mittwoch des Mo...
UID:30d73426766aa00d35110190ed8d475a@kulturhamburg
END:VEVENT
END:VCALENDAR