BEGIN:VCALENDAR
VERSION:2.0
PRODID:-//STADTKULTUR HAMBURG//kultur-hamburg.de///DE
CALSCALE:GREGORIAN
BEGIN:VEVENT
X-WR-TIMEZONE:Europe/Berlin
DTSTART:20190829T200000
DTEND:20190829T220000
LOCATION:The Old Dubliner - Irish Pub \, Neue Straße 56-58 \,  Hamburg
DTSTAMP:20260422T154658
SUMMARY:Irish Folk Session
URL;VALUE=URI:https://www.kultur-hamburg.de/veranstaltungen/irish-folk-session-459125
DESCRIPTION:Organisiert wird diese Irish Folk Session mit einer guten Mischung aus Tunes und Songs.

Wir  würden...
UID:f7d591cc3011e982bcc3920b88375330@kulturhamburg
END:VEVENT
END:VCALENDAR