BEGIN:VCALENDAR
VERSION:2.0
PRODID:-//STADTKULTUR HAMBURG//kultur-hamburg.de///DE
CALSCALE:GREGORIAN
BEGIN:VEVENT
X-WR-TIMEZONE:Europe/Berlin
DTSTART:20190830T220000
DTEND:20190831T000000
LOCATION:The Old Dubliner - Irish Pub \, Neue Straße 56-58 \,  Hamburg
DTSTAMP:20260422T175332
SUMMARY:Steve Casey
URL;VALUE=URI:https://www.kultur-hamburg.de/veranstaltungen/steve-casey-459126
DESCRIPTION:Singer & Songwriter | Rock | Pop

Steve  Casey ist ein irischer Musiker mit eigenen und einer großen...
UID:de9984a9bfbee26359778f16d01b6ce0@kulturhamburg
END:VEVENT
END:VCALENDAR