BEGIN:VCALENDAR
VERSION:2.0
PRODID:-//STADTKULTUR HAMBURG//kultur-hamburg.de///DE
CALSCALE:GREGORIAN
BEGIN:VEVENT
X-WR-TIMEZONE:Europe/Berlin
DTSTART:20190831T220000
DTEND:20190901T000000
LOCATION:The Old Dubliner - Irish Pub \, Neue Straße 56-58 \,  Hamburg
DTSTAMP:20260422T190707
SUMMARY:Rico Bowen
URL;VALUE=URI:https://www.kultur-hamburg.de/veranstaltungen/rico-bowen-459127
DESCRIPTION:Singer / Songwriter - Rock, Pop, Reggae and more... 

Multi-Talent  Rico Bowen begann seine Laufbahn...
UID:df8336a79e5463795f13a18f554df136@kulturhamburg
END:VEVENT
END:VCALENDAR