BEGIN:VCALENDAR
VERSION:2.0
PRODID:-//STADTKULTUR HAMBURG//kultur-hamburg.de///DE
CALSCALE:GREGORIAN
BEGIN:VEVENT
X-WR-TIMEZONE:Europe/Berlin
DTSTART:20190908T150000
DTEND:20190908T163000
LOCATION:KÖLIBRI \, Hein-Köllisch-Platz 12 \, 20359 Hamburg
DTSTAMP:20260423T085812
SUMMARY:Die kleine Laterne
URL;VALUE=URI:https://www.kultur-hamburg.de/veranstaltungen/die-kleine-laterne-459197
DESCRIPTION:Ein palästinensisches Märchen von Ghassan Kanafani 
Gespielt in deutscher und arabischer Sprache
Für Kinder ab 5 Jahren empfohlen
UID:dae8c66649ba48f0d7b22c23a9d8bb34@kulturhamburg
END:VEVENT
END:VCALENDAR