BEGIN:VCALENDAR
VERSION:2.0
PRODID:-//STADTKULTUR HAMBURG//kultur-hamburg.de///DE
CALSCALE:GREGORIAN
BEGIN:VEVENT
X-WR-TIMEZONE:Europe/Berlin
DTSTART:20111015T110000
DTEND:20111016T170000
LOCATION:TASK Schauspielschule für Kinder und Jugendliche \, Stresemannstraße 163 (Neue Flora) \, 22769 Hamburg
DTSTAMP:20260423T110504
SUMMARY:Manege frei! Ferien-Zirkus-Workshop (8 - 12 J.)
URL;VALUE=URI:https://www.kultur-hamburg.de/kurse_workshops/manege-frei!-ferien-zirkus-workshop-8-12-j.-45965
DESCRIPTION:Die Kinder können sich auf die Vielfalt des Zirkus' freuen - und alles selber machen!
UID:4a6b79d7e1660625be15d7b572fb1f88@kulturhamburg
END:VEVENT
END:VCALENDAR