BEGIN:VCALENDAR
VERSION:2.0
PRODID:-//STADTKULTUR HAMBURG//kultur-hamburg.de///DE
CALSCALE:GREGORIAN
BEGIN:VEVENT
X-WR-TIMEZONE:Europe/Berlin
DTSTART:20111022T110000
DTEND:20111023T150000
LOCATION:TASK Schauspielschule für Kinder und Jugendliche \, Stresemannstraße 163 (Neue Flora) \, 22769 Hamburg
DTSTAMP:20260423T090724
SUMMARY:Hörspiel-Workshop ab 10 J. - TASK Schauspielschule
URL;VALUE=URI:https://www.kultur-hamburg.de/kurse_workshops/hoerspiel-workshop-ab-10-j.-task-schauspielschule-45968
DESCRIPTION:Ziel dieses Kurses ist eine selbst produzierte Hörspiel-CD!
UID:e5baf33621e676abcad1a41f80598be1@kulturhamburg
END:VEVENT
END:VCALENDAR