BEGIN:VCALENDAR
VERSION:2.0
PRODID:-//STADTKULTUR HAMBURG//kultur-hamburg.de///DE
CALSCALE:GREGORIAN
BEGIN:VEVENT
X-WR-TIMEZONE:Europe/Berlin
DTSTART:20190830T190000
DTEND:20190830T210000
LOCATION:Auferstehungskirche \, Tieloh 26 \, 22305 Hamburg
DTSTAMP:20260422T173042
SUMMARY:PATER NOSTER - eine musikalische Zeitreise
URL;VALUE=URI:https://www.kultur-hamburg.de/veranstaltungen/pater-noster-eine-musikalische-zeitreise-459683
DESCRIPTION:Auferstehungskirche Barmbek
Tieloh 22, 22307 Hamburg
UID:c6400227201d13fa9492069042c2207d@kulturhamburg
END:VEVENT
END:VCALENDAR