BEGIN:VCALENDAR
VERSION:2.0
PRODID:-//STADTKULTUR HAMBURG//kultur-hamburg.de///DE
CALSCALE:GREGORIAN
BEGIN:VEVENT
X-WR-TIMEZONE:Europe/Berlin
DTSTART:20190924T190000
DTEND:20190924T210000
LOCATION:
DTSTAMP:20260424T102208
SUMMARY:Lachyoga zum Schnuppern
URL;VALUE=URI:https://www.kultur-hamburg.de/veranstaltungen/lachyoga-zum-schnuppern-459699
DESCRIPTION:Abend für Neu-EinsteigerInnen mit Theorie und Praxis
UID:8e3009e99baf8caced5b966ad56e48df@kulturhamburg
END:VEVENT
END:VCALENDAR