BEGIN:VCALENDAR
VERSION:2.0
PRODID:-//STADTKULTUR HAMBURG//kultur-hamburg.de///DE
CALSCALE:GREGORIAN
BEGIN:VEVENT
X-WR-TIMEZONE:Europe/Berlin
DTSTART:20111029T110000
DTEND:20111030T170000
LOCATION:TASK Schauspielschule für Kinder und Jugendliche \, Stresemannstraße 163 (Neue Flora) \, 22769 Hamburg
DTSTAMP:20260423T071850
SUMMARY:Casting und Lampenfieber - Workshops ab 9 J. - TASK Hamburg
URL;VALUE=URI:https://www.kultur-hamburg.de/kurse_workshops/casting-und-lampenfieber-workshops-ab-9-j.-task-hamburg-45971
DESCRIPTION:Ein Workshop, der nicht nur fürs Casting fit macht!
UID:711f0d1b268b17abeab11e75eadc53e6@kulturhamburg
END:VEVENT
END:VCALENDAR