BEGIN:VCALENDAR
VERSION:2.0
PRODID:-//STADTKULTUR HAMBURG//kultur-hamburg.de///DE
CALSCALE:GREGORIAN
BEGIN:VEVENT
X-WR-TIMEZONE:Europe/Berlin
DTSTART:20111030T110000
DTEND:20111031T170000
LOCATION:TASK Schauspielschule für Kinder und Jugendliche \, Stresemannstraße 163 (Neue Flora) \, 22769 Hamburg
DTSTAMP:20260423T071848
SUMMARY:Casting und Lampenfieber - Workshops ab 9 J. - TASK Hamburg
URL;VALUE=URI:https://www.kultur-hamburg.de/kurse_workshops/casting-und-lampenfieber-workshops-ab-9-j.-task-hamburg-45972
DESCRIPTION:Ein Workshop, der nicht nur fürs Casting fit macht!
UID:11a5a2a0515d7d0ecac8b365590171ec@kulturhamburg
END:VEVENT
END:VCALENDAR