BEGIN:VCALENDAR
VERSION:2.0
PRODID:-//STADTKULTUR HAMBURG//kultur-hamburg.de///DE
CALSCALE:GREGORIAN
BEGIN:VEVENT
X-WR-TIMEZONE:Europe/Berlin
DTSTART:20111019T183000
DTEND:20111019T200000
LOCATION:TASK Schauspielschule für Kinder und Jugendliche \, Stresemannstraße 163 (Neue Flora) \, 22769 Hamburg
DTSTAMP:20260423T092336
SUMMARY:Kostenlose Schauspiel-Schnupperstunde für Kinder und Jugendliche
URL;VALUE=URI:https://www.kultur-hamburg.de/kurse_workshops/kostenlose-schauspiel-schnupperstunde-fuer-kinder-und-jugendliche-45973
DESCRIPTION:Runter vom Sofa und ab auf die Bühne!
UID:66a20e51621117c9807e4c188f270c60@kulturhamburg
END:VEVENT
END:VCALENDAR