BEGIN:VCALENDAR
VERSION:2.0
PRODID:-//STADTKULTUR HAMBURG//kultur-hamburg.de///DE
CALSCALE:GREGORIAN
BEGIN:VEVENT
X-WR-TIMEZONE:Europe/Berlin
DTSTART:20190924T100000
DTEND:20190924T120000
LOCATION:Goldbekhaus \, Moorfuhrtweg 9 \, 22301 Hamburg
DTSTAMP:20260424T101630
SUMMARY:Durch den Wald | Interaktive Lesung
URL;VALUE=URI:https://www.kultur-hamburg.de/veranstaltungen/durch-den-wald--interaktive-lesung-459996
DESCRIPTION:Eine abenteuerliche Entdeckungsreise.
UID:f79b3d4875423a24fd115c4f174d1a1e@kulturhamburg
END:VEVENT
END:VCALENDAR