BEGIN:VCALENDAR
VERSION:2.0
PRODID:-//STADTKULTUR HAMBURG//kultur-hamburg.de///DE
CALSCALE:GREGORIAN
BEGIN:VEVENT
X-WR-TIMEZONE:Europe/Berlin
DTSTART:20191221T200000
DTEND:20191221T220000
LOCATION:
DTSTAMP:20260422T072806
SUMMARY:Kurzfilmtag
URL;VALUE=URI:https://www.kultur-hamburg.de/veranstaltungen/kurzfilmtag-460011
DESCRIPTION:Preisgekrönte Kurzfilme am kürzesten Tag
UID:678d165e33b028666bafe75ab8e0691d@kulturhamburg
END:VEVENT
END:VCALENDAR