BEGIN:VCALENDAR
VERSION:2.0
PRODID:-//STADTKULTUR HAMBURG//kultur-hamburg.de///DE
CALSCALE:GREGORIAN
BEGIN:VEVENT
X-WR-TIMEZONE:Europe/Berlin
DTSTART:20190904T200000
DTEND:20190904T220000
LOCATION:Kulturcafé Komm du \, Buxtehuder Str. 13 \, 21073 Hamburg
DTSTAMP:20260423T014223
SUMMARY:?Freddie II? - Mein Leben als schlechtester Freddie Mercury-Imitator der Welt
URL;VALUE=URI:https://www.kultur-hamburg.de/veranstaltungen/freddie-ii-mein-leben-als-schlechtester-freddie-mercury-imitator-der-welt-460450
DESCRIPTION:Foto: by Marvin Hesse

????????????????????????????

Das Komm du lädt ein zum Kabarett am Mittwoch, ...
UID:ce19698913fee8f38a320eff7336a66b@kulturhamburg
END:VEVENT
END:VCALENDAR