BEGIN:VCALENDAR
VERSION:2.0
PRODID:-//STADTKULTUR HAMBURG//kultur-hamburg.de///DE
CALSCALE:GREGORIAN
BEGIN:VEVENT
X-WR-TIMEZONE:Europe/Berlin
DTSTART:20190906T180000
DTEND:20190906T200000
LOCATION:Alles wird schön \, Friedrich-Naumann-Str. 27 \, 21075 Hamburg
DTSTAMP:20260423T051128
SUMMARY:Schwindelfrei von Carola Hoffenreich
URL;VALUE=URI:https://www.kultur-hamburg.de/veranstaltungen/schwindelfrei-von-carola-hoffenreich-460451
DESCRIPTION:Vernissage: Freitag 06.September 2019, 18 Uhr
Finissage: 20. September 2019, 18 Uhr
Ausstellungsdaue...
UID:06c4b044f7c3dc68648a9b93e15fac64@kulturhamburg
END:VEVENT
END:VCALENDAR