BEGIN:VCALENDAR
VERSION:2.0
PRODID:-//STADTKULTUR HAMBURG//kultur-hamburg.de///DE
CALSCALE:GREGORIAN
BEGIN:VEVENT
X-WR-TIMEZONE:Europe/Berlin
DTSTART:20190906T200000
DTEND:20190906T220000
LOCATION:Kulturcafé Komm du \, Buxtehuder Str. 13 \, 21073 Hamburg
DTSTAMP:20260423T051155
SUMMARY:Attila Vural - ?Nicht ohne meine Gitarre? | Perkussive Solo-Gitarren Reise
URL;VALUE=URI:https://www.kultur-hamburg.de/veranstaltungen/attila-vural-nicht-ohne-meine-gitarre--perkussive-solo-gitarren-reise-460452
DESCRIPTION:Foto by Barbara Müller Photography
????????????????????????????

Das Komm du lädt ein zu einem Konze...
UID:eff9dc91cd7c8c05c90e72f665d3a42c@kulturhamburg
END:VEVENT
END:VCALENDAR