BEGIN:VCALENDAR
VERSION:2.0
PRODID:-//STADTKULTUR HAMBURG//kultur-hamburg.de///DE
CALSCALE:GREGORIAN
BEGIN:VEVENT
X-WR-TIMEZONE:Europe/Berlin
DTSTART:20190907T150000
DTEND:20190907T170000
LOCATION:Kulturcafé Komm du \, Buxtehuder Str. 13 \, 21073 Hamburg
DTSTAMP:20260423T070232
SUMMARY:Mickael Marso Riviere - ?EKLEGEIN +? | Internationale Tanzfotografie Ausstellung
URL;VALUE=URI:https://www.kultur-hamburg.de/veranstaltungen/mickael-marso-riviere-eklegein---internationale-tanzfotografie-ausstellung-460453
DESCRIPTION:Foto by: Marso Riviere IMG Photography

????????????????????????????

Das Komm du lädt ein zu einer ...
UID:e56a37932295749d353d03d885db2648@kulturhamburg
END:VEVENT
END:VCALENDAR