BEGIN:VCALENDAR
VERSION:2.0
PRODID:-//STADTKULTUR HAMBURG//kultur-hamburg.de///DE
CALSCALE:GREGORIAN
BEGIN:VEVENT
X-WR-TIMEZONE:Europe/Berlin
DTSTART:20190907T200000
DTEND:20190907T220000
LOCATION:Kulturcafé Komm du \, Buxtehuder Str. 13 \, 21073 Hamburg
DTSTAMP:20260423T070247
SUMMARY:Les Bohémiens | Leichtfüßiger, junger Jazz
URL;VALUE=URI:https://www.kultur-hamburg.de/veranstaltungen/les-bohmiens--leichtfuessiger-junger-jazz-460454
DESCRIPTION:Foto by: Caroline Jarchow

????????????????????????????

Das Komm du lädt ein zu einem Konzert am Sa...
UID:3f811400b3ad9fb42ecacd3d59869474@kulturhamburg
END:VEVENT
END:VCALENDAR