BEGIN:VCALENDAR
VERSION:2.0
PRODID:-//STADTKULTUR HAMBURG//kultur-hamburg.de///DE
CALSCALE:GREGORIAN
BEGIN:VEVENT
X-WR-TIMEZONE:Europe/Berlin
DTSTART:20190911T200000
DTEND:20190911T220000
LOCATION:Kulturcafé Komm du \, Buxtehuder Str. 13 \, 21073 Hamburg
DTSTAMP:20260423T133650
SUMMARY:Lexi's Jam Session - Join the moment!
URL;VALUE=URI:https://www.kultur-hamburg.de/veranstaltungen/lexi's-jam-session-join-the-moment!-460455
DESCRIPTION:Foto by: Sasa
????????????????????????????

Das Komm du lädt ein zu einer Jam-Session am Mittwoch, d...
UID:926ab8135a7c789ff2633538212cac76@kulturhamburg
END:VEVENT
END:VCALENDAR