BEGIN:VCALENDAR
VERSION:2.0
PRODID:-//STADTKULTUR HAMBURG//kultur-hamburg.de///DE
CALSCALE:GREGORIAN
BEGIN:VEVENT
X-WR-TIMEZONE:Europe/Berlin
DTSTART:20190913T200000
DTEND:20190913T220000
LOCATION:Kulturcafé Komm du \, Buxtehuder Str. 13 \, 21073 Hamburg
DTSTAMP:20260423T170231
SUMMARY:Paul ?The Touch? Eastham | Singer-Songwriter mit Gitarren und Klavier-Sounds
URL;VALUE=URI:https://www.kultur-hamburg.de/veranstaltungen/paul-the-touch-eastham--singer-songwriter-mit-gitarren-und-klavier-sounds-460456
DESCRIPTION:Foto by: Paul Eastham

??????????????

Das Komm du lädt ein zu einem Konzert am Freitag, den 13.09.2...
UID:528f37b6588be7a3db637bb2bd9d0301@kulturhamburg
END:VEVENT
END:VCALENDAR