BEGIN:VCALENDAR
VERSION:2.0
PRODID:-//STADTKULTUR HAMBURG//kultur-hamburg.de///DE
CALSCALE:GREGORIAN
BEGIN:VEVENT
X-WR-TIMEZONE:Europe/Berlin
DTSTART:20190914T153000
DTEND:20190914T173000
LOCATION:Kulturcafé Komm du \, Buxtehuder Str. 13 \, 21073 Hamburg
DTSTAMP:20260423T182957
SUMMARY:Musikalische Märchen für Kinder | Helmut Stuarnig
URL;VALUE=URI:https://www.kultur-hamburg.de/veranstaltungen/musikalische-maerchen-fuer-kinder--helmut-stuarnig-460457
DESCRIPTION:Foto by: Helmut Stuarnig / Lew Beloglasow

Das Komm du lädt ein zu einem Musikalischen Märchen am Sa...
UID:f2940f7e3d0ec4fea5a19cf19e72a2a9@kulturhamburg
END:VEVENT
END:VCALENDAR