BEGIN:VCALENDAR
VERSION:2.0
PRODID:-//STADTKULTUR HAMBURG//kultur-hamburg.de///DE
CALSCALE:GREGORIAN
BEGIN:VEVENT
X-WR-TIMEZONE:Europe/Berlin
DTSTART:20190918T200000
DTEND:20190918T220000
LOCATION:Kulturcafé Komm du \, Buxtehuder Str. 13 \, 21073 Hamburg
DTSTAMP:20260424T004318
SUMMARY:Ines Herrmann | Singer/Songwriter - Indie Jazz, Rock und Pop
URL;VALUE=URI:https://www.kultur-hamburg.de/veranstaltungen/ines-herrmann--singersongwriter-indie-jazz-rock-und-pop-460459
DESCRIPTION:Foto by: Maximilian Helm

???????????????

Das Komm du lädt ein zu einem Konzert am Mittwoch, den 18...
UID:afea8afa1844171099a1dee3321524c1@kulturhamburg
END:VEVENT
END:VCALENDAR