BEGIN:VCALENDAR
VERSION:2.0
PRODID:-//STADTKULTUR HAMBURG//kultur-hamburg.de///DE
CALSCALE:GREGORIAN
BEGIN:VEVENT
X-WR-TIMEZONE:Europe/Berlin
DTSTART:20190920T200000
DTEND:20190920T220000
LOCATION:Kulturcafé Komm du \, Buxtehuder Str. 13 \, 21073 Hamburg
DTSTAMP:20260424T035932
SUMMARY:Black Seagull - ?Folk-Noire? | Dänischer Folk-Rock
URL;VALUE=URI:https://www.kultur-hamburg.de/veranstaltungen/black-seagull-folk-noire--daenischer-folk-rock-460460
DESCRIPTION:Foto by: Peter Sorensen

???????????????

Das Komm du lädt ein zu einem Konzert am Freitag, den 20.0...
UID:c170cf947b754113f70804ae51e59a81@kulturhamburg
END:VEVENT
END:VCALENDAR