BEGIN:VCALENDAR
VERSION:2.0
PRODID:-//STADTKULTUR HAMBURG//kultur-hamburg.de///DE
CALSCALE:GREGORIAN
BEGIN:VEVENT
X-WR-TIMEZONE:Europe/Berlin
DTSTART:20190925T200000
DTEND:20190925T220000
LOCATION:Kulturcafé Komm du \, Buxtehuder Str. 13 \, 21073 Hamburg
DTSTAMP:20260424T120216
SUMMARY:Duo Liebertango | Träumerischer Tango
URL;VALUE=URI:https://www.kultur-hamburg.de/veranstaltungen/duo-liebertango--traeumerischer-tango-460461
DESCRIPTION:Foto by: Angel García Arnés und Alfons Bock

????????????

Das Komm du lädt ein zu einem Konzert am ...
UID:1689c359940f69d7498e1bfceb903d60@kulturhamburg
END:VEVENT
END:VCALENDAR